Package: cliProfiler Version: 1.14.0 Command: /home/biocbuild/R/R/bin/R CMD INSTALL cliProfiler StartedAt: 2025-10-13 20:44:11 -0000 (Mon, 13 Oct 2025) EndedAt: 2025-10-13 20:45:02 -0000 (Mon, 13 Oct 2025) EllapsedTime: 51.2 seconds RetCode: 0 Status: OK