Package: cliProfiler Version: 1.14.0 Command: /home/biocbuild/R/R/bin/R CMD build --keep-empty-dirs --no-resave-data cliProfiler StartedAt: 2025-10-13 23:39:31 -0000 (Mon, 13 Oct 2025) EndedAt: 2025-10-13 23:41:16 -0000 (Mon, 13 Oct 2025) EllapsedTime: 105.0 seconds RetCode: 0 Status: OK PackageFile: cliProfiler_1.14.0.tar.gz PackageFileSize: 1.237 MiB