Package: cleanUpdTSeq Version: 1.46.0 Command: /home/biocbuild/bbs-3.21-bioc/R/bin/R CMD build --keep-empty-dirs --no-resave-data cleanUpdTSeq StartedAt: 2025-10-15 16:45:47 -0400 (Wed, 15 Oct 2025) EndedAt: 2025-10-15 16:47:04 -0400 (Wed, 15 Oct 2025) EllapsedTime: 77.0 seconds RetCode: 0 Status: OK PackageFile: cleanUpdTSeq_1.46.0.tar.gz PackageFileSize: 4.008 MiB