Package: cleanUpdTSeq Version: 1.46.0 Command: /Library/Frameworks/R.framework/Resources/bin/R CMD INSTALL cleanUpdTSeq StartedAt: 2025-10-13 16:01:55 -0400 (Mon, 13 Oct 2025) EndedAt: 2025-10-13 16:04:09 -0400 (Mon, 13 Oct 2025) EllapsedTime: 134.3 seconds RetCode: 0 Status: OK