Package: cleanUpdTSeq Version: 1.46.0 Command: rm -rf cleanUpdTSeq.buildbin-libdir && mkdir cleanUpdTSeq.buildbin-libdir && /Users/biocbuild/BBS/utils/build-universal.sh cleanUpdTSeq_1.46.0.tar.gz /Library/Frameworks/R.framework/Resources/bin/R cleanUpdTSeq.buildbin-libdir StartedAt: 2025-10-14 13:03:38 -0400 (Tue, 14 Oct 2025) EndedAt: 2025-10-14 13:06:45 -0400 (Tue, 14 Oct 2025) EllapsedTime: 186.3 seconds RetCode: 0 Status: OK PackageFile: cleanUpdTSeq_1.46.0.tgz PackageFileSize: 5.87 MiB