Package: cleanUpdTSeq Version: 1.46.0 Command: /home/biocbuild/R/R/bin/R CMD build --keep-empty-dirs --no-resave-data cleanUpdTSeq StartedAt: 2025-10-13 23:38:20 -0000 (Mon, 13 Oct 2025) EndedAt: 2025-10-13 23:40:40 -0000 (Mon, 13 Oct 2025) EllapsedTime: 139.6 seconds RetCode: 0 Status: OK PackageFile: cleanUpdTSeq_1.46.0.tar.gz PackageFileSize: 4.034 MiB