Package: cisPath Version: 1.48.0 Command: /Library/Frameworks/R.framework/Resources/bin/R CMD build --keep-empty-dirs --no-resave-data cisPath StartedAt: 2025-10-13 17:55:31 -0400 (Mon, 13 Oct 2025) EndedAt: 2025-10-13 17:56:14 -0400 (Mon, 13 Oct 2025) EllapsedTime: 43.2 seconds RetCode: 0 Status: OK PackageFile: cisPath_1.48.0.tar.gz PackageFileSize: 1.032 MiB