Package: chromstaR Version: 1.34.0 Command: /home/biocbuild/R/R/bin/R CMD INSTALL chromstaR StartedAt: 2025-10-13 20:46:07 -0000 (Mon, 13 Oct 2025) EndedAt: 2025-10-13 20:46:09 -0000 (Mon, 13 Oct 2025) EllapsedTime: 2.7 seconds RetCode: 1 Status: ERROR