Package: chromPlot Version: 1.36.0 Command: /home/biocbuild/bbs-3.21-bioc/R/bin/R CMD build --keep-empty-dirs --no-resave-data chromPlot StartedAt: 2025-10-15 16:44:43 -0400 (Wed, 15 Oct 2025) EndedAt: 2025-10-15 16:45:23 -0400 (Wed, 15 Oct 2025) EllapsedTime: 40.0 seconds RetCode: 0 Status: OK PackageFile: chromPlot_1.36.0.tar.gz PackageFileSize: 1.519 MiB