Package: chromPlot Version: 1.36.0 Command: /home/biocbuild/R/R/bin/R CMD INSTALL chromPlot StartedAt: 2025-10-13 21:17:08 -0000 (Mon, 13 Oct 2025) EndedAt: 2025-10-13 21:17:31 -0000 (Mon, 13 Oct 2025) EllapsedTime: 22.6 seconds RetCode: 0 Status: OK