Package: chromPlot Version: 1.36.0 Command: /home/biocbuild/R/R/bin/R CMD build --keep-empty-dirs --no-resave-data chromPlot StartedAt: 2025-10-13 23:36:34 -0000 (Mon, 13 Oct 2025) EndedAt: 2025-10-13 23:37:30 -0000 (Mon, 13 Oct 2025) EllapsedTime: 56.0 seconds RetCode: 0 Status: OK PackageFile: chromPlot_1.36.0.tar.gz PackageFileSize: 1.514 MiB