Package: chromPlot Version: 1.36.0 Command: /Library/Frameworks/R.framework/Resources/bin/R CMD INSTALL chromPlot StartedAt: 2025-10-13 18:29:23 -0400 (Mon, 13 Oct 2025) EndedAt: 2025-10-13 18:29:42 -0400 (Mon, 13 Oct 2025) EllapsedTime: 18.6 seconds RetCode: 0 Status: OK