Package: chromDraw Version: 2.38.0 Command: /home/biocbuild/R/R/bin/R CMD INSTALL chromDraw StartedAt: 2025-10-13 20:29:45 -0000 (Mon, 13 Oct 2025) EndedAt: 2025-10-13 20:30:50 -0000 (Mon, 13 Oct 2025) EllapsedTime: 64.7 seconds RetCode: 0 Status: OK