Package: chromDraw Version: 2.38.0 Command: /home/biocbuild/R/R/bin/R CMD build --keep-empty-dirs --no-resave-data chromDraw StartedAt: 2025-10-13 23:35:51 -0000 (Mon, 13 Oct 2025) EndedAt: 2025-10-13 23:37:14 -0000 (Mon, 13 Oct 2025) EllapsedTime: 83.0 seconds RetCode: 0 Status: OK PackageFile: chromDraw_2.38.0.tar.gz PackageFileSize: 2.221 MiB