Package: chipseq Version: 1.58.0 Command: /home/biocbuild/bbs-3.21-bioc/R/bin/R CMD build --keep-empty-dirs --no-resave-data chipseq StartedAt: 2025-10-15 16:43:48 -0400 (Wed, 15 Oct 2025) EndedAt: 2025-10-15 16:47:08 -0400 (Wed, 15 Oct 2025) EllapsedTime: 200.2 seconds RetCode: 0 Status: OK PackageFile: chipseq_1.58.0.tar.gz PackageFileSize: 2.456 MiB