Package: chipseq Version: 1.58.0 Command: /home/biocbuild/R/R/bin/R CMD INSTALL chipseq StartedAt: 2025-10-13 21:10:57 -0000 (Mon, 13 Oct 2025) EndedAt: 2025-10-13 21:11:38 -0000 (Mon, 13 Oct 2025) EllapsedTime: 41.4 seconds RetCode: 0 Status: OK