Package: chipseq Version: 1.58.0 Command: /home/biocbuild/R/R/bin/R CMD build --keep-empty-dirs --no-resave-data chipseq StartedAt: 2025-10-13 23:34:55 -0000 (Mon, 13 Oct 2025) EndedAt: 2025-10-13 23:40:49 -0000 (Mon, 13 Oct 2025) EllapsedTime: 353.7 seconds RetCode: 0 Status: OK PackageFile: chipseq_1.58.0.tar.gz PackageFileSize: 2.379 MiB