Package: chipseq Version: 1.58.0 Command: /Library/Frameworks/R.framework/Resources/bin/R CMD INSTALL chipseq StartedAt: 2025-10-13 18:06:23 -0400 (Mon, 13 Oct 2025) EndedAt: 2025-10-13 18:06:59 -0400 (Mon, 13 Oct 2025) EllapsedTime: 36.0 seconds RetCode: 0 Status: OK