Package: chipseq Version: 1.58.0 Command: /Library/Frameworks/R.framework/Resources/bin/R CMD build --keep-empty-dirs --no-resave-data chipseq StartedAt: 2025-10-13 21:05:14 -0400 (Mon, 13 Oct 2025) EndedAt: 2025-10-13 21:08:40 -0400 (Mon, 13 Oct 2025) EllapsedTime: 206.1 seconds RetCode: 0 Status: OK PackageFile: chipseq_1.58.0.tar.gz PackageFileSize: 2.434 MiB