Package: chipseq Version: 1.58.0 Command: rm -rf chipseq.buildbin-libdir && mkdir chipseq.buildbin-libdir && /Users/biocbuild/BBS/utils/build-universal.sh chipseq_1.58.0.tar.gz /Library/Frameworks/R.framework/Resources/bin/R chipseq.buildbin-libdir StartedAt: 2025-10-15 17:49:39 -0400 (Wed, 15 Oct 2025) EndedAt: 2025-10-15 17:50:19 -0400 (Wed, 15 Oct 2025) EllapsedTime: 40.6 seconds RetCode: 0 Status: OK PackageFile: chipseq_1.58.0.tgz PackageFileSize: 2.497 MiB