Package: chimeraviz Version: 1.34.0 Command: /home/biocbuild/R/R/bin/R CMD INSTALL chimeraviz StartedAt: 2025-10-13 21:03:12 -0000 (Mon, 13 Oct 2025) EndedAt: 2025-10-13 21:04:31 -0000 (Mon, 13 Oct 2025) EllapsedTime: 79.0 seconds RetCode: 0 Status: OK