Package: chimeraviz Version: 1.34.0 Command: /home/biocbuild/R/R/bin/R CMD build --keep-empty-dirs --no-resave-data chimeraviz StartedAt: 2025-10-13 23:33:31 -0000 (Mon, 13 Oct 2025) EndedAt: 2025-10-13 23:38:39 -0000 (Mon, 13 Oct 2025) EllapsedTime: 308.1 seconds RetCode: 0 Status: OK PackageFile: chimeraviz_1.34.0.tar.gz PackageFileSize: 3.675 MiB