Package: chevreulProcess Version: 1.0.0 Command: /Library/Frameworks/R.framework/Resources/bin/R CMD build --keep-empty-dirs --no-resave-data chevreulProcess StartedAt: 2025-10-13 17:49:51 -0400 (Mon, 13 Oct 2025) EndedAt: 2025-10-13 17:52:32 -0400 (Mon, 13 Oct 2025) EllapsedTime: 161.6 seconds RetCode: 0 Status: OK PackageFile: chevreulProcess_1.0.0.tar.gz PackageFileSize: 4.754 MiB