Package: chevreulProcess Version: 1.0.0 Command: /home/biocbuild/R/R/bin/R CMD build --keep-empty-dirs --no-resave-data chevreulProcess StartedAt: 2025-10-13 23:33:02 -0000 (Mon, 13 Oct 2025) EndedAt: 2025-10-13 23:34:42 -0000 (Mon, 13 Oct 2025) EllapsedTime: 100.0 seconds RetCode: 0 Status: OK PackageFile: chevreulProcess_1.0.0.tar.gz PackageFileSize: 4.817 MiB