Package: chevreulPlot Version: 1.0.0 Command: /home/biocbuild/R/R/bin/R CMD build --keep-empty-dirs --no-resave-data chevreulPlot StartedAt: 2025-10-13 23:32:54 -0000 (Mon, 13 Oct 2025) EndedAt: 2025-10-13 23:34:47 -0000 (Mon, 13 Oct 2025) EllapsedTime: 113.0 seconds RetCode: 0 Status: OK PackageFile: chevreulPlot_1.0.0.tar.gz PackageFileSize: 12.95 MiB