Package: chevreulPlot Version: 1.0.0 Command: /Library/Frameworks/R.framework/Resources/bin/R CMD INSTALL chevreulPlot StartedAt: 2025-10-13 18:20:17 -0400 (Mon, 13 Oct 2025) EndedAt: 2025-10-13 18:21:22 -0400 (Mon, 13 Oct 2025) EllapsedTime: 65.0 seconds RetCode: 0 Status: OK