Package: chevreulPlot Version: 1.0.0 Command: /Library/Frameworks/R.framework/Resources/bin/R CMD build --keep-empty-dirs --no-resave-data chevreulPlot StartedAt: 2025-10-13 20:59:00 -0400 (Mon, 13 Oct 2025) EndedAt: 2025-10-13 21:00:42 -0400 (Mon, 13 Oct 2025) EllapsedTime: 102.0 seconds RetCode: 0 Status: OK PackageFile: chevreulPlot_1.0.0.tar.gz PackageFileSize: 12.9 MiB