Package: cfTools Version: 1.8.0 Command: /home/biocbuild/bbs-3.21-bioc/R/bin/R CMD INSTALL cfTools StartedAt: 2025-10-15 15:26:14 -0400 (Wed, 15 Oct 2025) EndedAt: 2025-10-15 15:26:58 -0400 (Wed, 15 Oct 2025) EllapsedTime: 43.7 seconds RetCode: 0 Status: OK