Package: cfTools Version: 1.8.0 Command: /home/biocbuild/bbs-3.21-bioc/R/bin/R CMD build --keep-empty-dirs --no-resave-data cfTools StartedAt: 2025-10-15 16:41:00 -0400 (Wed, 15 Oct 2025) EndedAt: 2025-10-15 16:42:25 -0400 (Wed, 15 Oct 2025) EllapsedTime: 84.1 seconds RetCode: 0 Status: OK PackageFile: cfTools_1.8.0.tar.gz PackageFileSize: 2.202 MiB