Package: cfTools Version: 1.8.0 Command: /home/biocbuild/R/R/bin/R CMD INSTALL cfTools StartedAt: 2025-10-13 20:40:42 -0000 (Mon, 13 Oct 2025) EndedAt: 2025-10-13 20:41:48 -0000 (Mon, 13 Oct 2025) EllapsedTime: 65.5 seconds RetCode: 0 Status: OK