Package: cfTools Version: 1.8.0 Command: /home/biocbuild/R/R/bin/R CMD build --keep-empty-dirs --no-resave-data cfTools StartedAt: 2025-10-13 23:31:47 -0000 (Mon, 13 Oct 2025) EndedAt: 2025-10-13 23:34:12 -0000 (Mon, 13 Oct 2025) EllapsedTime: 145.0 seconds RetCode: 1 Status: ERROR PackageFile: None PackageFileSize: NA