Package: cfTools Version: 1.8.0 Command: rm -rf cfTools.buildbin-libdir && mkdir cfTools.buildbin-libdir && /Users/biocbuild/BBS/utils/build-universal.sh cfTools_1.8.0.tar.gz /Library/Frameworks/R.framework/Resources/bin/R cfTools.buildbin-libdir StartedAt: 2025-10-15 17:46:59 -0400 (Wed, 15 Oct 2025) EndedAt: 2025-10-15 17:47:50 -0400 (Wed, 15 Oct 2025) EllapsedTime: 50.9 seconds RetCode: 0 Status: OK PackageFile: cfTools_1.8.0.tgz PackageFileSize: 1.328 MiB