Package: cfDNAPro Version: 1.14.0 Command: /home/biocbuild/R/R/bin/R CMD INSTALL cfDNAPro StartedAt: 2025-10-13 20:50:14 -0000 (Mon, 13 Oct 2025) EndedAt: 2025-10-13 20:51:02 -0000 (Mon, 13 Oct 2025) EllapsedTime: 48.4 seconds RetCode: 0 Status: OK