Package: cfDNAPro Version: 1.14.0 Command: /home/biocbuild/R/R/bin/R CMD build --keep-empty-dirs --no-resave-data cfDNAPro StartedAt: 2025-10-13 23:31:36 -0000 (Mon, 13 Oct 2025) EndedAt: 2025-10-13 23:33:03 -0000 (Mon, 13 Oct 2025) EllapsedTime: 87.0 seconds RetCode: 0 Status: OK PackageFile: cfDNAPro_1.14.0.tar.gz PackageFileSize: 1.41 MiB