Package: cellxgenedp Version: 1.12.1 Command: /home/biocbuild/R/R/bin/R CMD INSTALL cellxgenedp StartedAt: 2025-10-13 20:20:10 -0000 (Mon, 13 Oct 2025) EndedAt: 2025-10-13 20:20:17 -0000 (Mon, 13 Oct 2025) EllapsedTime: 7.4 seconds RetCode: 0 Status: OK