Package: cellbaseR Version: 1.32.0 Command: /home/biocbuild/R/R/bin/R CMD INSTALL cellbaseR StartedAt: 2025-10-13 20:37:14 -0000 (Mon, 13 Oct 2025) EndedAt: 2025-10-13 20:37:33 -0000 (Mon, 13 Oct 2025) EllapsedTime: 19.4 seconds RetCode: 0 Status: OK