Package: cellbaseR Version: 1.32.0 Command: /home/biocbuild/R/R/bin/R CMD build --keep-empty-dirs --no-resave-data cellbaseR StartedAt: 2025-10-13 23:25:49 -0000 (Mon, 13 Oct 2025) EndedAt: 2025-10-13 23:26:54 -0000 (Mon, 13 Oct 2025) EllapsedTime: 65.0 seconds RetCode: 0 Status: OK PackageFile: cellbaseR_1.32.0.tar.gz PackageFileSize: 502.8 KiB