Package: ceRNAnetsim Version: 1.20.0 Command: /home/biocbuild/bbs-3.21-bioc/R/bin/R CMD build --keep-empty-dirs --no-resave-data ceRNAnetsim StartedAt: 2025-10-15 16:39:45 -0400 (Wed, 15 Oct 2025) EndedAt: 2025-10-15 16:44:06 -0400 (Wed, 15 Oct 2025) EllapsedTime: 260.3 seconds RetCode: 0 Status: OK PackageFile: ceRNAnetsim_1.20.0.tar.gz PackageFileSize: 2.967 MiB