Package: ceRNAnetsim Version: 1.20.0 Command: /Library/Frameworks/R.framework/Resources/bin/R CMD INSTALL ceRNAnetsim StartedAt: 2025-10-13 15:26:16 -0400 (Mon, 13 Oct 2025) EndedAt: 2025-10-13 15:26:32 -0400 (Mon, 13 Oct 2025) EllapsedTime: 15.6 seconds RetCode: 0 Status: OK