Package: ccrepe Version: 1.44.0 Command: /home/biocbuild/R/R/bin/R CMD INSTALL ccrepe StartedAt: 2025-10-13 20:22:48 -0000 (Mon, 13 Oct 2025) EndedAt: 2025-10-13 20:22:52 -0000 (Mon, 13 Oct 2025) EllapsedTime: 4.0 seconds RetCode: 0 Status: OK