Package: ccrepe Version: 1.44.0 Command: /home/biocbuild/R/R/bin/R CMD build --keep-empty-dirs --no-resave-data ccrepe StartedAt: 2025-10-13 23:24:59 -0000 (Mon, 13 Oct 2025) EndedAt: 2025-10-13 23:25:11 -0000 (Mon, 13 Oct 2025) EllapsedTime: 12.0 seconds RetCode: 0 Status: OK PackageFile: ccrepe_1.44.0.tar.gz PackageFileSize: 292.6 KiB