Package: ccmap Version: 1.34.0 Command: /home/biocbuild/R/R/bin/R CMD build --keep-empty-dirs --no-resave-data ccmap StartedAt: 2025-10-13 23:24:27 -0000 (Mon, 13 Oct 2025) EndedAt: 2025-10-13 23:27:23 -0000 (Mon, 13 Oct 2025) EllapsedTime: 176.0 seconds RetCode: 0 Status: OK PackageFile: ccmap_1.34.0.tar.gz PackageFileSize: 471.2 KiB