Package: ccfindR Version: 1.28.0 Command: /home/biocbuild/R/R/bin/R CMD INSTALL ccfindR StartedAt: 2025-10-13 20:32:08 -0000 (Mon, 13 Oct 2025) EndedAt: 2025-10-13 20:33:20 -0000 (Mon, 13 Oct 2025) EllapsedTime: 72.2 seconds RetCode: 0 Status: OK