Package: ccfindR Version: 1.28.0 Command: /home/biocbuild/R/R/bin/R CMD build --keep-empty-dirs --no-resave-data ccfindR StartedAt: 2025-10-13 23:24:01 -0000 (Mon, 13 Oct 2025) EndedAt: 2025-10-13 23:30:31 -0000 (Mon, 13 Oct 2025) EllapsedTime: 390.1 seconds RetCode: 0 Status: OK PackageFile: ccfindR_1.28.0.tar.gz PackageFileSize: 1.157 MiB