Package: casper Version: 2.42.0 Command: /home/biocbuild/R/R/bin/R CMD INSTALL casper StartedAt: 2025-10-13 20:54:42 -0000 (Mon, 13 Oct 2025) EndedAt: 2025-10-13 20:56:15 -0000 (Mon, 13 Oct 2025) EllapsedTime: 92.6 seconds RetCode: 0 Status: OK