Package: casper Version: 2.42.0 Command: /home/biocbuild/R/R/bin/R CMD build --keep-empty-dirs --no-resave-data casper StartedAt: 2025-10-13 23:22:01 -0000 (Mon, 13 Oct 2025) EndedAt: 2025-10-13 23:23:56 -0000 (Mon, 13 Oct 2025) EllapsedTime: 115.0 seconds RetCode: 0 Status: OK PackageFile: casper_2.42.0.tar.gz PackageFileSize: 2.256 MiB