Package: cTRAP Version: 1.26.0 Command: /home/biocbuild/R/R/bin/R CMD INSTALL cTRAP StartedAt: 2025-10-13 20:52:16 -0000 (Mon, 13 Oct 2025) EndedAt: 2025-10-13 20:53:01 -0000 (Mon, 13 Oct 2025) EllapsedTime: 45.1 seconds RetCode: 0 Status: OK