Package: cBioPortalData Version: 2.20.0 Command: /home/biocbuild/R/R/bin/R CMD INSTALL cBioPortalData StartedAt: 2025-10-13 20:59:28 -0000 (Mon, 13 Oct 2025) EndedAt: 2025-10-13 21:00:28 -0000 (Mon, 13 Oct 2025) EllapsedTime: 60.2 seconds RetCode: 0 Status: OK