Package: cBioPortalData Version: 2.20.0 Command: /home/biocbuild/R/R/bin/R CMD build --keep-empty-dirs --no-resave-data cBioPortalData StartedAt: 2025-10-13 23:23:20 -0000 (Mon, 13 Oct 2025) EndedAt: 2025-10-13 23:27:15 -0000 (Mon, 13 Oct 2025) EllapsedTime: 235.1 seconds RetCode: 0 Status: OK PackageFile: cBioPortalData_2.20.0.tar.gz PackageFileSize: 1.091 MiB