Package: bugsigdbr Version: 1.14.3 Command: /home/biocbuild/bbs-3.21-bioc/R/bin/R CMD build --keep-empty-dirs --no-resave-data bugsigdbr StartedAt: 2025-10-15 16:31:49 -0400 (Wed, 15 Oct 2025) EndedAt: 2025-10-15 16:33:08 -0400 (Wed, 15 Oct 2025) EllapsedTime: 79.1 seconds RetCode: 0 Status: OK PackageFile: bugsigdbr_1.14.3.tar.gz PackageFileSize: 329 KiB